BEGIN:VCALENDAR
PRODID:-//Microsoft Corporation//Outlook 12.0 MIMEDIR//EN
VERSION:2.0
CALSCALE:GREGORIAN
BEGIN:VEVENT
UID: 32e808b0-5f82-489b-b3d8-53cbe9167b3d
SUMMARY:Jõuluvaheaeg
DTSTAMP:20241223T000000
DTSTART:20241223T000000
DTEND:20250105T235900
LOCATION:Koolimaja
DESCRIPTION: <p><strong>Link: </strong>https://nk.edu.ee/et/sundmuste-kalender/jouluvaheaeg-3</p><p><strong>Hind: </strong></p>
STATUS:CONFIRMED
SEQUENCE:3
X-ALT-DESC;FMTTYPE=text/html:<p><strong>Link: </strong>https://nk.edu.ee/et/sundmuste-kalender/jouluvaheaeg-3</p><p><strong>Hind: </strong></p>
X-MICROSOFT-CDO-BUSYSTATUS:OOF
X-MICROSOFT-CDO-IMPORTANCE:1
X-MICROSOFT-DISALLOW-COUNTER:FALSE
X-MS-OLK-ALLOWEXTERNCHECK:TRUE
X-MS-OLK-CONFTYPE:0
X-MICROSOFT-CDO-ALLDAYEVENT:
X-MICROSOFT-MSNCALENDAR-ALLDAYEVENT:
END:VEVENT
END:VCALENDAR