BEGIN:VCALENDAR
PRODID:-//Microsoft Corporation//Outlook 12.0 MIMEDIR//EN
VERSION:2.0
CALSCALE:GREGORIAN
BEGIN:VEVENT
UID: 14af9f86-1891-4b04-8b18-12ed8221a151
SUMMARY:Mailaat
DTSTAMP:20240528
DTSTART:20240528
DTEND:20240529
DURATION:P1D
LOCATION:Koolimaja
DESCRIPTION: <p>Laadale on oodatud nii tooted, mida õpilased/lastevanemad/koolitöötajad on ise valmistanud, kui ka head-paremat kõhutäiteks - müügiks. Tooted võivad olla nii kunstiteosed, käsitöötooted, rõivaesemed vmt<br /><br />Avatud on ka lava, kus ootame osalema kõiki laadalised mõne põneva numbriga - olgu selleks siis näitemäng, laul, luuletus ... mida iganes suudate välja mõelda!<br /><br />Oodatud on esinema kõik klassid ning lapsevanemad ja koolitöötajad!!!<br />Ühest klassist/ühelt perelt võib olla ka mitu esinemisnumbrit.</p><p><strong>Link: </strong>https://nk.edu.ee/et/sundmuste-kalender/mailaat</p><p><strong>Hind: </strong></p>
STATUS:CONFIRMED
SEQUENCE:3
X-ALT-DESC;FMTTYPE=text/html:<p>Laadale on oodatud nii tooted, mida õpilased/lastevanemad/koolitöötajad on ise valmistanud, kui ka head-paremat kõhutäiteks - müügiks. Tooted võivad olla nii kunstiteosed, käsitöötooted, rõivaesemed vmt<br /><br />Avatud on ka lava, kus ootame osalema kõiki laadalised mõne põneva numbriga - olgu selleks siis näitemäng, laul, luuletus ... mida iganes suudate välja mõelda!<br /><br />Oodatud on esinema kõik klassid ning lapsevanemad ja koolitöötajad!!!<br />Ühest klassist/ühelt perelt võib olla ka mitu esinemisnumbrit.</p><p><strong>Link: </strong>https://nk.edu.ee/et/sundmuste-kalender/mailaat</p><p><strong>Hind: </strong></p>
X-MICROSOFT-CDO-BUSYSTATUS:OOF
X-MICROSOFT-CDO-IMPORTANCE:1
X-MICROSOFT-DISALLOW-COUNTER:FALSE
X-MS-OLK-ALLOWEXTERNCHECK:TRUE
X-MS-OLK-CONFTYPE:0
X-MICROSOFT-CDO-ALLDAYEVENT:1
X-MICROSOFT-MSNCALENDAR-ALLDAYEVENT:1
END:VEVENT
END:VCALENDAR